BEGIN:VCALENDAR
VERSION:2.0
PRODID:-//web-crossing GmbH/Events//NONSGML v1.0//EN
CALSCALE:GREGORIAN
BEGIN:VEVENT
DTEND:20260619T120000Z
UID:69e76c86d3fd2
DTSTAMP:20260421T142438Z
LOCATION:SEE-Bad\, Atoll Achensee
DESCRIPTION:
URL;VALUE=URI:https://www.achensee.com/en/events-tyrol-austria/tyrol-austria/details/event/wingfoil-testival-achensee-maurach-am-achensee/
SUMMARY:Wingfoil Testival Achensee
DTSTART:20260619T100000Z
END:VEVENT
END:VCALENDAR