BEGIN:VCALENDAR
VERSION:2.0
PRODID:-//web-crossing GmbH/Events//NONSGML v1.0//EN
CALSCALE:GREGORIAN
BEGIN:VEVENT
DTEND:20260912T220000Z
UID:69ec24103b121
DTSTAMP:20260425T041648Z
LOCATION:Altes Widum
DESCRIPTION:
URL;VALUE=URI:https://www.achensee.com/en/events-tyrol-austria/tyrol-austria/details/event/the-stonez-achenkirch-am-achensee/
SUMMARY:THE STONEZ
DTSTART:20260912T200000Z
END:VEVENT
END:VCALENDAR