BEGIN:VCALENDAR
VERSION:2.0
PRODID:-//web-crossing GmbH/Events//NONSGML v1.0//EN
CALSCALE:GREGORIAN
BEGIN:VEVENT
DTEND:20260602T113000Z
UID:69e77092ad45c
DTSTAMP:20260421T144154Z
LOCATION:Talstation Rofan Seilbahn
DESCRIPTION:
URL;VALUE=URI:https://www.achensee.com/en/events-tyrol-austria/tyrol-austria/details/event/summit-tour-rofan-maurach-am-achensee/
SUMMARY:Gipfelerlebnis Rofan
DTSTART:20260602T093000Z
END:VEVENT
END:VCALENDAR