BEGIN:VCALENDAR
VERSION:2.0
PRODID:-//web-crossing GmbH/Events//NONSGML v1.0//EN
CALSCALE:GREGORIAN
BEGIN:VEVENT
DTEND:20260503T130000Z
UID:69e4fc145a48a
DTSTAMP:20260419T180020Z
LOCATION:Gaisalm
DESCRIPTION:
URL;VALUE=URI:https://www.achensee.com/en/events-tyrol-austria/tyrol-austria/details/event/season-opener-gaisalm-achenkirch-am-achensee/
SUMMARY:Saisoneröffnung Gaisalm
DTSTART:20260503T110000Z
END:VEVENT
END:VCALENDAR