BEGIN:VCALENDAR
VERSION:2.0
PRODID:-//web-crossing GmbH/Events//NONSGML v1.0//EN
CALSCALE:GREGORIAN
BEGIN:VEVENT
DTEND:20260501T120000Z
UID:69e58edb693c1
DTSTAMP:20260420T042635Z
LOCATION:Notburga Museum
DESCRIPTION:
URL;VALUE=URI:https://www.achensee.com/en/events-tyrol-austria/tyrol-austria/details/event/season-kickoff-and-photo-exhibition-eben-am-achensee/
SUMMARY:Saisonstart & Bilder Ausstellung
DTSTART:20260501T100000Z
END:VEVENT
END:VCALENDAR