BEGIN:VCALENDAR
VERSION:2.0
PRODID:-//web-crossing GmbH/Events//NONSGML v1.0//EN
CALSCALE:GREGORIAN
BEGIN:VEVENT
DTEND:20260903T220000Z
UID:69e76d626cb9a
DTSTAMP:20260421T142818Z
LOCATION:Festhalle
DESCRIPTION:
URL;VALUE=URI:https://www.achensee.com/en/events-tyrol-austria/tyrol-austria/details/event/schmankerl-concert-steinberg-am-rofan/
SUMMARY:Schmankerl Konzert
DTSTART:20260903T200000Z
END:VEVENT
END:VCALENDAR