BEGIN:VCALENDAR
VERSION:2.0
PRODID:-//web-crossing GmbH/Events//NONSGML v1.0//EN
CALSCALE:GREGORIAN
BEGIN:VEVENT
DTEND:20260424T210000Z
UID:69e58ea1c1293
DTSTAMP:20260420T042537Z
LOCATION:Bücherei Achensee
DESCRIPTION:
URL;VALUE=URI:https://www.achensee.com/en/events-tyrol-austria/tyrol-austria/details/event/reading-with-susanne-hutter-maurach-am-achensee/
SUMMARY:Lesung mit Susanne Hutter
DTSTART:20260424T190000Z
END:VEVENT
END:VCALENDAR