BEGIN:VCALENDAR
VERSION:2.0
PRODID:-//web-crossing GmbH/Events//NONSGML v1.0//EN
CALSCALE:GREGORIAN
BEGIN:VEVENT
DTEND:20260430T160000Z
UID:69e591ee4c39d
DTSTAMP:20260420T043942Z
LOCATION:Dorfplatz
DESCRIPTION:
URL;VALUE=URI:https://www.achensee.com/en/events-tyrol-austria/tyrol-austria/details/event/putting-up-a-maypole-steinberg-am-rofan/
SUMMARY:Maibaumaufstellen
DTSTART:20260430T140000Z
END:VEVENT
END:VCALENDAR