BEGIN:VCALENDAR
VERSION:2.0
PRODID:-//web-crossing GmbH/Events//NONSGML v1.0//EN
CALSCALE:GREGORIAN
BEGIN:VEVENT
DTEND:20260620T220000Z
UID:69e67ed0147cd
DTSTAMP:20260420T213024Z
LOCATION:Altes Widum
DESCRIPTION:
URL;VALUE=URI:https://www.achensee.com/en/events-tyrol-austria/tyrol-austria/details/event/peter-mayer-court-chapel-achenkirch-am-achensee/
SUMMARY:Peter Mayer Hofkapelle
DTSTART:20260620T200000Z
END:VEVENT
END:VCALENDAR