BEGIN:VCALENDAR
VERSION:2.0
PRODID:-//web-crossing GmbH/Events//NONSGML v1.0//EN
CALSCALE:GREGORIAN
BEGIN:VEVENT
DTEND:20260725T200000Z
UID:69ec240ae5982
DTSTAMP:20260425T041642Z
LOCATION:Schiffsanlegestelle
DESCRIPTION:
URL;VALUE=URI:https://www.achensee.com/en/events-tyrol-austria/tyrol-austria/details/event/musicians-ahoy-pertisau-am-achensee/
SUMMARY:Musikanten Ahoi!
DTSTART:20260725T180000Z
END:VEVENT
END:VCALENDAR