BEGIN:VCALENDAR
VERSION:2.0
PRODID:-//web-crossing GmbH/Events//NONSGML v1.0//EN
CALSCALE:GREGORIAN
BEGIN:VEVENT
DTEND:20260913T120000Z
UID:69e8d3f296351
DTSTAMP:20260422T155810Z
LOCATION:Heimatmuseum Sixenhof
DESCRIPTION:
URL;VALUE=URI:https://www.achensee.com/en/events-tyrol-austria/tyrol-austria/details/event/museum-festival-achenkirch-am-achensee/
SUMMARY:Museums Fest
DTSTART:20260913T100000Z
END:VEVENT
END:VCALENDAR