BEGIN:VCALENDAR
VERSION:2.0
PRODID:-//web-crossing GmbH/Events//NONSGML v1.0//EN
CALSCALE:GREGORIAN
BEGIN:VEVENT
DTEND:20260501T130000Z
UID:69e59185be2e3
DTSTAMP:20260420T043757Z
LOCATION:Musikpavillon
DESCRIPTION:
URL;VALUE=URI:https://www.achensee.com/en/events-tyrol-austria/tyrol-austria/details/event/may-festival-wiesing/
SUMMARY:Maifest
DTSTART:20260501T110000Z
END:VEVENT
END:VCALENDAR