BEGIN:VCALENDAR
VERSION:2.0
PRODID:-//web-crossing GmbH/Events//NONSGML v1.0//EN
CALSCALE:GREGORIAN
BEGIN:VEVENT
DTEND:20260501T120000Z
UID:69ea4b040c093
DTSTAMP:20260423T183828Z
LOCATION:Veranstaltungszentrum
DESCRIPTION:
URL;VALUE=URI:https://www.achensee.com/en/events-tyrol-austria/tyrol-austria/details/event/may-festival-maurach-maurach-am-achensee/
SUMMARY:Maifest Maurach
DTSTART:20260501T100000Z
END:VEVENT
END:VCALENDAR