BEGIN:VCALENDAR
VERSION:2.0
PRODID:-//web-crossing GmbH/Events//NONSGML v1.0//EN
CALSCALE:GREGORIAN
BEGIN:VEVENT
DTEND:20260705T093000Z
UID:69e76daac4a8f
DTSTAMP:20260421T142930Z
LOCATION:SEE-Bad Atoll Achensee
DESCRIPTION:
URL;VALUE=URI:https://www.achensee.com/en/events-tyrol-austria/tyrol-austria/details/event/long-distance-swimming-on-the-achensee-maurach-am-achensee/
SUMMARY:Achensee Langstreckenschwimmen
DTSTART:20260705T073000Z
END:VEVENT
END:VCALENDAR