BEGIN:VCALENDAR
VERSION:2.0
PRODID:-//web-crossing GmbH/Events//NONSGML v1.0//EN
CALSCALE:GREGORIAN
BEGIN:VEVENT
DTEND:20260522T180000Z
UID:69ec2353cd755
DTSTAMP:20260425T041339Z
LOCATION:Bücherei
DESCRIPTION:
URL;VALUE=URI:https://www.achensee.com/en/events-tyrol-austria/tyrol-austria/details/event/library-coffee-maurach-am-achensee/
SUMMARY:Büchereicafé
DTSTART:20260522T160000Z
END:VEVENT
END:VCALENDAR