BEGIN:VCALENDAR
VERSION:2.0
PRODID:-//web-crossing GmbH/Events//NONSGML v1.0//EN
CALSCALE:GREGORIAN
BEGIN:VEVENT
DTEND:20260627T183000Z
UID:69e777a317461
DTSTAMP:20260421T151203Z
LOCATION:aja Fürstenhaus
DESCRIPTION:
URL;VALUE=URI:https://www.achensee.com/en/events-tyrol-austria/tyrol-austria/details/event/lake-festival-pertisau-am-achensee/
SUMMARY:Seefest
DTSTART:20260627T163000Z
END:VEVENT
END:VCALENDAR