BEGIN:VCALENDAR
VERSION:2.0
PRODID:-//web-crossing GmbH/Events//NONSGML v1.0//EN
CALSCALE:GREGORIAN
BEGIN:VEVENT
DTEND:20260423T190000Z
UID:69e757775fcad
DTSTAMP:20260421T125447Z
LOCATION:Edelbrennerei Kostenzer
DESCRIPTION:
URL;VALUE=URI:https://www.achensee.com/en/events-tyrol-austria/tyrol-austria/details/event/guided-tour-with-tasting-maurach-am-achensee/
SUMMARY:Führung mit Verkostung
DTSTART:20260423T170000Z
END:VEVENT
END:VCALENDAR