BEGIN:VCALENDAR
VERSION:2.0
PRODID:-//web-crossing GmbH/Events//NONSGML v1.0//EN
CALSCALE:GREGORIAN
BEGIN:VEVENT
DTEND:20260623T103000Z
UID:69ec24628f8a2
DTSTAMP:20260425T041810Z
LOCATION:Parkplatz Karwendeltäler
DESCRIPTION:
URL;VALUE=URI:https://www.achensee.com/en/events-tyrol-austria/tyrol-austria/details/event/golden-eagle-hike-with-the-nature-park-rangers-pertisau-am-achensee/
SUMMARY:Steinadlerwanderung mit Naturpark-Rangern
DTSTART:20260623T083000Z
END:VEVENT
END:VCALENDAR