BEGIN:VCALENDAR
VERSION:2.0
PRODID:-//web-crossing GmbH/Events//NONSGML v1.0//EN
CALSCALE:GREGORIAN
BEGIN:VEVENT
DTEND:20260522T210000Z
UID:69ec22a16e90f
DTSTAMP:20260425T041041Z
LOCATION:Festhalle Steinberg
DESCRIPTION:
URL;VALUE=URI:https://www.achensee.com/en/events-tyrol-austria/tyrol-austria/details/event/folk-music-evening-steinberg-am-rofan/
SUMMARY:Volksmusikabend
DTSTART:20260522T190000Z
END:VEVENT
END:VCALENDAR