BEGIN:VCALENDAR
VERSION:2.0
PRODID:-//web-crossing GmbH/Events//NONSGML v1.0//EN
CALSCALE:GREGORIAN
BEGIN:VEVENT
DTEND:20260718T120000Z
UID:69e770bb6094f
DTSTAMP:20260421T144235Z
LOCATION:Freiwillige Feuerwehr
DESCRIPTION:
URL;VALUE=URI:https://www.achensee.com/en/events-tyrol-austria/tyrol-austria/details/event/fire-brigade-festival-maurach-am-achensee/
SUMMARY:Feuerwehrfest
DTSTART:20260718T100000Z
END:VEVENT
END:VCALENDAR