BEGIN:VCALENDAR
VERSION:2.0
PRODID:-//web-crossing GmbH/Events//NONSGML v1.0//EN
CALSCALE:GREGORIAN
BEGIN:VEVENT
DTEND:20260702T104500Z
UID:69e76dd3ccca2
DTSTAMP:20260421T143011Z
LOCATION:Parkplatz Hochalmlifte Christlum
DESCRIPTION:
URL;VALUE=URI:https://www.achensee.com/en/events-tyrol-austria/tyrol-austria/details/event/excursion-to-the-tiroler-steinoel-distillery-achenkirch-am-achensee/
SUMMARY:Steinölwanderung
DTSTART:20260702T084500Z
END:VEVENT
END:VCALENDAR