BEGIN:VCALENDAR
VERSION:2.0
PRODID:-//web-crossing GmbH/Events//NONSGML v1.0//EN
CALSCALE:GREGORIAN
BEGIN:VEVENT
DTEND:20260706T123000Z
UID:69e76e53c2769
DTSTAMP:20260421T143219Z
LOCATION:Kasalm & Genussladen
DESCRIPTION:
URL;VALUE=URI:https://www.achensee.com/en/events-tyrol-austria/tyrol-austria/details/event/exclusive-ranger-guided-nature-hike-pertisau-am-achensee/
SUMMARY:Natur Exklusiv - mit dem Ranger unterwegs
DTSTART:20260706T103000Z
END:VEVENT
END:VCALENDAR