BEGIN:VCALENDAR
VERSION:2.0
PRODID:-//web-crossing GmbH/Events//NONSGML v1.0//EN
CALSCALE:GREGORIAN
BEGIN:VEVENT
DTEND:20260920T020000Z
UID:69ec2335e4b74
DTSTAMP:20260425T041309Z
LOCATION:Fischergut
DESCRIPTION:
URL;VALUE=URI:https://www.achensee.com/en/events-tyrol-austria/tyrol-austria/details/event/creativity-day-maurach-am-achensee/
SUMMARY:Tag der Kreativität
DTSTART:20260920T000000Z
END:VEVENT
END:VCALENDAR