BEGIN:VCALENDAR
VERSION:2.0
PRODID:-//web-crossing GmbH/Events//NONSGML v1.0//EN
CALSCALE:GREGORIAN
BEGIN:VEVENT
DTEND:20260607T110000Z
UID:69e76c58f3ae6
DTSTAMP:20260421T142352Z
LOCATION:Pfarrkirche
DESCRIPTION:
URL;VALUE=URI:https://www.achensee.com/en/events-tyrol-austria/tyrol-austria/details/event/corpus-christi-procession-achenkirch-achenkirch-am-achensee/
SUMMARY:Fronleichnamsprozession Achenkirch
DTSTART:20260607T090000Z
END:VEVENT
END:VCALENDAR