BEGIN:VCALENDAR
VERSION:2.0
PRODID:-//web-crossing GmbH/Events//NONSGML v1.0//EN
CALSCALE:GREGORIAN
BEGIN:VEVENT
DTEND:20260918T120000Z
UID:69e8e8302b36a
DTSTAMP:20260422T172432Z
LOCATION:Gramai Alm
DESCRIPTION:
URL;VALUE=URI:https://www.achensee.com/en/events-tyrol-austria/tyrol-austria/details/event/cattle-drive-gramai-pertisau-pertisau-am-achensee/
SUMMARY:Almabtrieb Gramai
DTSTART:20260918T100000Z
END:VEVENT
END:VCALENDAR