BEGIN:VCALENDAR
VERSION:2.0
PRODID:-//web-crossing GmbH/Events//NONSGML v1.0//EN
CALSCALE:GREGORIAN
BEGIN:VEVENT
DTEND:20260624T210000Z
UID:69e78079d23b8
DTSTAMP:20260421T154945Z
LOCATION:Schiffsanlegestelle
DESCRIPTION:
URL;VALUE=URI:https://www.achensee.com/en/events-tyrol-austria/tyrol-austria/details/event/buonissimo-lake-cruise-with-live-music-pertisau-am-achensee/
SUMMARY:Buonissimo! Seerundfahrt mit Live-Musik
DTSTART:20260624T190000Z
END:VEVENT
END:VCALENDAR