BEGIN:VCALENDAR
VERSION:2.0
PRODID:-//web-crossing GmbH/Events//NONSGML v1.0//EN
CALSCALE:GREGORIAN
BEGIN:VEVENT
DTEND:20261121T220000Z
UID:69e770799663d
DTSTAMP:20260421T144129Z
LOCATION:Altes Widum
DESCRIPTION:
URL;VALUE=URI:https://www.achensee.com/en/events-tyrol-austria/tyrol-austria/details/event/boogie-kathi-swing-project-achenkirch-am-achensee/
SUMMARY:Boogie Kathi Swing Project
DTSTART:20261121T200000Z
END:VEVENT
END:VCALENDAR