BEGIN:VCALENDAR
VERSION:2.0
PRODID:-//web-crossing GmbH/Events//NONSGML v1.0//EN
CALSCALE:GREGORIAN
BEGIN:VEVENT
DTEND:20260509T110000Z
UID:69e76c4d4cf8f
DTSTAMP:20260421T142341Z
LOCATION:Bäckerei Adler
DESCRIPTION:
URL;VALUE=URI:https://www.achensee.com/en/events-tyrol-austria/tyrol-austria/details/event/baking-for-mothers-day-achenkirch-am-achensee/
SUMMARY:Backen für Muttertag
DTSTART:20260509T090000Z
END:VEVENT
END:VCALENDAR