BEGIN:VCALENDAR
VERSION:2.0
PRODID:-//web-crossing GmbH/Events//NONSGML v1.0//EN
CALSCALE:GREGORIAN
BEGIN:VEVENT
DTEND:20260516T203000Z
UID:69e76abf4ad6b
DTSTAMP:20260421T141703Z
LOCATION:Altes Widum
DESCRIPTION:
URL;VALUE=URI:https://www.achensee.com/en/events-tyrol-austria/tyrol-austria/details/event/ausstellung-achenkirch-am-achensee/
SUMMARY:Ausstellung
DTSTART:20260516T183000Z
END:VEVENT
END:VCALENDAR