BEGIN:VCALENDAR
VERSION:2.0
PRODID:-//web-crossing GmbH/Events//NONSGML v1.0//EN
CALSCALE:GREGORIAN
BEGIN:VEVENT
DTEND:20260916T130000Z
UID:69e8e7de1e45c
DTSTAMP:20260422T172310Z
LOCATION:Rieser Achensee Resort
DESCRIPTION:
URL;VALUE=URI:https://www.achensee.com/en/events-tyrol-austria/tyrol-austria/details/event/alpine-cattle-drive-pertisau-am-achensee/
SUMMARY:Almabtrieb Achenkirch - Pertisau
DTSTART:20260916T110000Z
END:VEVENT
END:VCALENDAR