BEGIN:VCALENDAR
VERSION:2.0
PRODID:-//web-crossing GmbH/Events//NONSGML v1.0//EN
CALSCALE:GREGORIAN
BEGIN:VEVENT
DTEND:20260906T120000Z
UID:69e76c471a883
DTSTAMP:20260421T142335Z
LOCATION:Fischergut
DESCRIPTION:
URL;VALUE=URI:https://www.achensee.com/en/events-tyrol-austria/tyrol-austria/details/event/achensee-run-pertisau-am-achensee/
SUMMARY:Achenseelauf
DTSTART:20260906T100000Z
END:VEVENT
END:VCALENDAR