BEGIN:VCALENDAR
VERSION:2.0
PRODID:-//web-crossing GmbH/Events//NONSGML v1.0//EN
CALSCALE:GREGORIAN
BEGIN:VEVENT
DTEND:20260509T120000Z
UID:69e63751a53b4
DTSTAMP:20260420T162521Z
LOCATION:Schiffsanlegestelle
DESCRIPTION:
URL;VALUE=URI:https://www.achensee.com/en/events-tyrol-austria/tyrol-austria/details/event/achensee-literature-brunch-pertisau-am-achensee/
SUMMARY:Achensee LiteraTOUR-Brunch
DTSTART:20260509T100000Z
END:VEVENT
END:VCALENDAR