BEGIN:VCALENDAR
VERSION:2.0
PRODID:-//web-crossing GmbH/Events//NONSGML v1.0//EN
CALSCALE:GREGORIAN
BEGIN:VEVENT
DTEND:20260621T120000Z
UID:69e759a376871
DTSTAMP:20260421T130403Z
LOCATION:SEE-Bad\, Atoll Achensee
DESCRIPTION:
URL;VALUE=URI:https://www.achensee.com/de/veranstaltungen-tirol-oesterreich/details/event/wingfoil-testival-achensee-maurach-am-achensee/
SUMMARY:Wingfoil Testival Achensee
DTSTART:20260621T100000Z
END:VEVENT
END:VCALENDAR