BEGIN:VCALENDAR
VERSION:2.0
PRODID:-//web-crossing GmbH/Events//NONSGML v1.0//EN
CALSCALE:GREGORIAN
BEGIN:VEVENT
DTEND:20260603T190000Z
UID:69ec38c6e7ee2
DTSTAMP:20260425T054510Z
LOCATION:Feuerwehrhaus
DESCRIPTION:
URL;VALUE=URI:https://www.achensee.com/de/veranstaltungen-tirol-oesterreich/details/event/wiesing-on-fire-wiesing/
SUMMARY:Wiesing on fire
DTSTART:20260603T170000Z
END:VEVENT
END:VCALENDAR