BEGIN:VCALENDAR
VERSION:2.0
PRODID:-//web-crossing GmbH/Events//NONSGML v1.0//EN
CALSCALE:GREGORIAN
BEGIN:VEVENT
DTEND:20261226T180000Z
UID:69e7488e50d2b
DTSTAMP:20260421T115110Z
LOCATION:Pfarrkirche
DESCRIPTION:
URL;VALUE=URI:https://www.achensee.com/de/veranstaltungen-tirol-oesterreich/details/event/weihnachtskonzert-pertisau-am-achensee/
SUMMARY:Weihnachtskonzert
DTSTART:20261226T160000Z
END:VEVENT
END:VCALENDAR