BEGIN:VCALENDAR
VERSION:2.0
PRODID:-//web-crossing GmbH/Events//NONSGML v1.0//EN
CALSCALE:GREGORIAN
BEGIN:VEVENT
DTEND:20260726T133000Z
UID:69e75971adfa5
DTSTAMP:20260421T130313Z
LOCATION:Festhalle
DESCRIPTION:
URL;VALUE=URI:https://www.achensee.com/de/veranstaltungen-tirol-oesterreich/details/event/waldfest-steinberg-am-rofan/
SUMMARY:Waldfest
DTSTART:20260726T113000Z
END:VEVENT
END:VCALENDAR