BEGIN:VCALENDAR
VERSION:2.0
PRODID:-//web-crossing GmbH/Events//NONSGML v1.0//EN
CALSCALE:GREGORIAN
BEGIN:VEVENT
DTEND:20260725T213000Z
UID:69e75946a229d
DTSTAMP:20260421T130230Z
LOCATION:Festhalle
DESCRIPTION:
URL;VALUE=URI:https://www.achensee.com/de/veranstaltungen-tirol-oesterreich/details/event/waldfest-steinberg-am-rofan/
SUMMARY:Waldfest
DTSTART:20260725T193000Z
END:VEVENT
END:VCALENDAR