BEGIN:VCALENDAR
VERSION:2.0
PRODID:-//web-crossing GmbH/Events//NONSGML v1.0//EN
CALSCALE:GREGORIAN
BEGIN:VEVENT
DTEND:20260621T100000Z
UID:69e759415f6e3
DTSTAMP:20260421T130225Z
LOCATION:Bergstation Rofan Seilbahn
DESCRIPTION:
URL;VALUE=URI:https://www.achensee.com/de/veranstaltungen-tirol-oesterreich/details/event/tt-wandercup-maurach-am-achensee/
SUMMARY:TT-Wandercup
DTSTART:20260621T080000Z
END:VEVENT
END:VCALENDAR