BEGIN:VCALENDAR
VERSION:2.0
PRODID:-//web-crossing GmbH/Events//NONSGML v1.0//EN
CALSCALE:GREGORIAN
BEGIN:VEVENT
DTEND:20260707T103000Z
UID:69ec3a42edb1a
DTSTAMP:20260425T055130Z
LOCATION:Parkplatz Karwendeltäler
DESCRIPTION:
URL;VALUE=URI:https://www.achensee.com/de/veranstaltungen-tirol-oesterreich/details/event/steinadlerwanderung-mit-naturpark-rangern-pertisau-am-achensee/
SUMMARY:Steinadlerwanderung mit Naturpark-Rangern
DTSTART:20260707T083000Z
END:VEVENT
END:VCALENDAR