BEGIN:VCALENDAR
VERSION:2.0
PRODID:-//web-crossing GmbH/Events//NONSGML v1.0//EN
CALSCALE:GREGORIAN
BEGIN:VEVENT
DTEND:20260603T054500Z
UID:69e759d0375f7
DTSTAMP:20260421T130448Z
LOCATION:Parkplatz Kirche 1
DESCRIPTION:
URL;VALUE=URI:https://www.achensee.com/de/veranstaltungen-tirol-oesterreich/details/event/sonnenaufgangstour-zur-astenau-alpe-eben-am-achensee/
SUMMARY:Sonnenaufgangstour zur Astenau Alpe
DTSTART:20260603T034500Z
END:VEVENT
END:VCALENDAR