BEGIN:VCALENDAR
VERSION:2.0
PRODID:-//web-crossing GmbH/Events//NONSGML v1.0//EN
CALSCALE:GREGORIAN
BEGIN:VEVENT
DTEND:20260820T220000Z
UID:69e759935b7c1
DTSTAMP:20260421T130347Z
LOCATION:Festhalle
DESCRIPTION:
URL;VALUE=URI:https://www.achensee.com/de/veranstaltungen-tirol-oesterreich/details/event/schmankerl-konzert-steinberg-am-rofan/
SUMMARY:Schmankerl Konzert
DTSTART:20260820T200000Z
END:VEVENT
END:VCALENDAR