BEGIN:VCALENDAR
VERSION:2.0
PRODID:-//web-crossing GmbH/Events//NONSGML v1.0//EN
CALSCALE:GREGORIAN
BEGIN:VEVENT
DTEND:20260618T220000Z
UID:69e7596808b69
DTSTAMP:20260421T130304Z
LOCATION:Festhalle
DESCRIPTION:
URL;VALUE=URI:https://www.achensee.com/de/veranstaltungen-tirol-oesterreich/details/event/schmankerl-konzert-steinberg-am-rofan/
SUMMARY:Schmankerl Konzert
DTSTART:20260618T200000Z
END:VEVENT
END:VCALENDAR