BEGIN:VCALENDAR
VERSION:2.0
PRODID:-//web-crossing GmbH/Events//NONSGML v1.0//EN
CALSCALE:GREGORIAN
BEGIN:VEVENT
DTEND:20260913T110000Z
UID:69e75c2bf1e46
DTSTAMP:20260421T131451Z
LOCATION:St. Notburgakirche
DESCRIPTION:
URL;VALUE=URI:https://www.achensee.com/de/veranstaltungen-tirol-oesterreich/details/event/notburga-sonntag-eben-am-achensee/
SUMMARY:Notburga Sonntag
DTSTART:20260913T090000Z
END:VEVENT
END:VCALENDAR