BEGIN:VCALENDAR
VERSION:2.0
PRODID:-//web-crossing GmbH/Events//NONSGML v1.0//EN
CALSCALE:GREGORIAN
BEGIN:VEVENT
DTEND:20260522T210000Z
UID:69e5faa21cd46
DTSTAMP:20260420T120626Z
LOCATION:Veranstaltungszentrum
DESCRIPTION:
URL;VALUE=URI:https://www.achensee.com/de/veranstaltungen-tirol-oesterreich/details/event/miteinand-tanzen-eben-am-achensee/
SUMMARY:Miteinand' Tanzen
DTSTART:20260522T190000Z
END:VEVENT
END:VCALENDAR