BEGIN:VCALENDAR
VERSION:2.0
PRODID:-//web-crossing GmbH/Events//NONSGML v1.0//EN
CALSCALE:GREGORIAN
BEGIN:VEVENT
DTEND:20260430T210000Z
UID:69e5773900cc7
DTSTAMP:20260420T024545Z
LOCATION:Heimatmuseum Sixenhof
DESCRIPTION:
URL;VALUE=URI:https://www.achensee.com/de/veranstaltungen-tirol-oesterreich/details/event/maibaumwache-achenkirch-am-achensee/
SUMMARY:Maibaumwache
DTSTART:20260430T190000Z
END:VEVENT
END:VCALENDAR