BEGIN:VCALENDAR
VERSION:2.0
PRODID:-//web-crossing GmbH/Events//NONSGML v1.0//EN
CALSCALE:GREGORIAN
BEGIN:VEVENT
DTEND:20260501T020000Z
UID:69ec39d1a965e
DTSTAMP:20260425T054937Z
LOCATION:Golf- und Landclub
DESCRIPTION:
URL;VALUE=URI:https://www.achensee.com/de/veranstaltungen-tirol-oesterreich/details/event/lets-golf-day-pertisau-am-achensee/
SUMMARY:Let´s Golf Day
DTSTART:20260501T000000Z
END:VEVENT
END:VCALENDAR