BEGIN:VCALENDAR
VERSION:2.0
PRODID:-//web-crossing GmbH/Events//NONSGML v1.0//EN
CALSCALE:GREGORIAN
BEGIN:VEVENT
DTEND:20260509T170000Z
UID:69e62110519ef
DTSTAMP:20260420T145024Z
LOCATION:Posthotel Achenkirch
DESCRIPTION:
URL;VALUE=URI:https://www.achensee.com/de/veranstaltungen-tirol-oesterreich/details/event/lesung-mit-mieze-medusa-achenkirch-am-achensee/
SUMMARY:Lesung mit Mieze Medusa
DTSTART:20260509T150000Z
END:VEVENT
END:VCALENDAR