BEGIN:VCALENDAR
VERSION:2.0
PRODID:-//web-crossing GmbH/Events//NONSGML v1.0//EN
CALSCALE:GREGORIAN
BEGIN:VEVENT
DTEND:20260510T120000Z
UID:69e759d16300a
DTSTAMP:20260421T130449Z
LOCATION:Parkplatz Beginn Dien-Mut-Weg
DESCRIPTION:
URL;VALUE=URI:https://www.achensee.com/de/veranstaltungen-tirol-oesterreich/details/event/krimiwanderung-am-dien-mut-weg-mit-maria-hoefle-pertisau-am-achensee/
SUMMARY:Krimiwanderung am Dien-Mut-Weg mit Maria Höfle
DTSTART:20260510T100000Z
END:VEVENT
END:VCALENDAR