BEGIN:VCALENDAR
VERSION:2.0
PRODID:-//web-crossing GmbH/Events//NONSGML v1.0//EN
CALSCALE:GREGORIAN
BEGIN:VEVENT
DTEND:20260517T170000Z
UID:69ec38c607f4c
DTSTAMP:20260425T054510Z
LOCATION:Gemeindesaal
DESCRIPTION:
URL;VALUE=URI:https://www.achensee.com/de/veranstaltungen-tirol-oesterreich/details/event/kinderkonzert-wiesing/
SUMMARY:Kinderkonzert
DTSTART:20260517T150000Z
END:VEVENT
END:VCALENDAR