BEGIN:VCALENDAR
VERSION:2.0
PRODID:-//web-crossing GmbH/Events//NONSGML v1.0//EN
CALSCALE:GREGORIAN
BEGIN:VEVENT
DTEND:20260912T130000Z
UID:69e759cc8322a
DTSTAMP:20260421T130444Z
LOCATION:Bergstation Rofan Seilbahn
DESCRIPTION:
URL;VALUE=URI:https://www.achensee.com/de/veranstaltungen-tirol-oesterreich/details/event/kids-day-am-rofan-maurach-am-achensee/
SUMMARY:Kids Day am Rofan
DTSTART:20260912T110000Z
END:VEVENT
END:VCALENDAR